BEGIN:VCALENDAR
VERSION:2.0
PRODID:-//Shop Local MD - ECPv6.15.12.2//NONSGML v1.0//EN
CALSCALE:GREGORIAN
METHOD:PUBLISH
X-WR-CALNAME:Shop Local MD
X-ORIGINAL-URL:https://shoplocalmd.com
X-WR-CALDESC:Events for Shop Local MD
REFRESH-INTERVAL;VALUE=DURATION:PT1H
X-Robots-Tag:noindex
X-PUBLISHED-TTL:PT1H
BEGIN:VTIMEZONE
TZID:UTC
BEGIN:STANDARD
TZOFFSETFROM:+0000
TZOFFSETTO:+0000
TZNAME:UTC
DTSTART:20250101T000000
END:STANDARD
END:VTIMEZONE
BEGIN:VEVENT
DTSTART;TZID=UTC:20260327T190000
DTEND;TZID=UTC:20260327T190000
DTSTAMP:20260419T132715
CREATED:20260324T183016Z
LAST-MODIFIED:20260324T183016Z
UID:5480-1774638000-1774638000@shoplocalmd.com
SUMMARY:To The Moon at Morsebergers
DESCRIPTION:To The Moon with special guests: The Line Riders\, Jacob Sellner & The Optimists\, Generadio All Ages\nTickets $12 Advanced $15 At the Door
URL:https://shoplocalmd.com/event/to-the-moon-at-morsebergers/
CATEGORIES:Art Exhibits
ATTACH;FMTTYPE=image/jpeg:https://shoplocalmd.com/wp-content/uploads/2026/03/featured_2bb666db-d12a-46a1-a65a-17bc1f2b2a6b_34f79eaf980a4ad4ad2d8c5dc5ca80a2.jpg
END:VEVENT
END:VCALENDAR