BEGIN:VCALENDAR
VERSION:2.0
PRODID:-//Shop Local MD - ECPv6.15.12.2//NONSGML v1.0//EN
CALSCALE:GREGORIAN
METHOD:PUBLISH
X-WR-CALNAME:Shop Local MD
X-ORIGINAL-URL:https://shoplocalmd.com
X-WR-CALDESC:Events for Shop Local MD
REFRESH-INTERVAL;VALUE=DURATION:PT1H
X-Robots-Tag:noindex
X-PUBLISHED-TTL:PT1H
BEGIN:VTIMEZONE
TZID:UTC
BEGIN:STANDARD
TZOFFSETFROM:+0000
TZOFFSETTO:+0000
TZNAME:UTC
DTSTART:20240101T000000
END:STANDARD
END:VTIMEZONE
BEGIN:VEVENT
DTSTART;TZID=UTC:20251117T184500
DTEND;TZID=UTC:20251117T204500
DTSTAMP:20260419T220208
CREATED:20251113T190906Z
LAST-MODIFIED:20251113T190906Z
UID:5190-1763405100-1763412300@shoplocalmd.com
SUMMARY:Prose Night
DESCRIPTION:Join us on Thursday\, November 21 at Manor Mill for an evening of funk\, soul\, and groove-heavy vibes with DJ Erik. From classic cuts to deep tracks\, DJ Erik spins the sounds that move your feet and lift your spirit.\nFree your soul. Feel the funk. Only at the Mill
URL:https://shoplocalmd.com/event/prose-night/
CATEGORIES:Literary / Poetry Events
ATTACH;FMTTYPE=image/jpeg:https://shoplocalmd.com/wp-content/uploads/2025/11/featured_903a9d4d-54d8-4f75-88e1-9d5cc1c4f57d_a3481f1a2c2e4ccdaa801af2e314aa1d.jpg
END:VEVENT
END:VCALENDAR