BEGIN:VCALENDAR
VERSION:2.0
PRODID:-//Shop Local MD - ECPv6.15.12.2//NONSGML v1.0//EN
CALSCALE:GREGORIAN
METHOD:PUBLISH
X-ORIGINAL-URL:https://shoplocalmd.com
X-WR-CALDESC:Events for Shop Local MD
REFRESH-INTERVAL;VALUE=DURATION:PT1H
X-Robots-Tag:noindex
X-PUBLISHED-TTL:PT1H
BEGIN:VTIMEZONE
TZID:UTC
BEGIN:STANDARD
TZOFFSETFROM:+0000
TZOFFSETTO:+0000
TZNAME:UTC
DTSTART:20250101T000000
END:STANDARD
END:VTIMEZONE
BEGIN:VEVENT
DTSTART;TZID=UTC:20260507T200000
DTEND;TZID=UTC:20260507T230000
DTSTAMP:20260421T113907
CREATED:20260220T010311Z
LAST-MODIFIED:20260220T010344Z
UID:5411-1778184000-1778194800@shoplocalmd.com
SUMMARY:Sirens of Spring Tour feat. Mama’s Black Sheep\, Sweet Leda Duo\, Regina Sayles & Colleen Clark
DESCRIPTION:w/ Madisun Bailey
URL:https://shoplocalmd.com/event/sirens-of-spring-tour-feat-mamas-black-sheep-sweet-leda-duo-regina-sayles-colleen-clark/
CATEGORIES:Live Performances
END:VEVENT
BEGIN:VEVENT
DTSTART;TZID=UTC:20260516T203000
DTEND;TZID=UTC:20260516T233000
DTSTAMP:20260421T113907
CREATED:20260219T165029Z
LAST-MODIFIED:20260219T165045Z
UID:5376-1778963400-1778974200@shoplocalmd.com
SUMMARY:Bethany Blues of Lewes w/ Sweet Leda
DESCRIPTION:Always a party at Bethany Blues!! Great food and drink. Free show. All ages. We play 8:30 to 11:30
URL:https://shoplocalmd.com/event/bethany-blues-of-lewes-w-sweet-leda/
CATEGORIES:Live Performances
ATTACH;FMTTYPE=image/jpeg:https://shoplocalmd.com/wp-content/uploads/2026/02/featured_25e0da95-9960-4287-8ccd-2eab92254c54_802ddda83a634c0dbadde84d4ca613b9-1.jpeg
END:VEVENT
BEGIN:VEVENT
DTSTART;TZID=UTC:20260517T170000
DTEND;TZID=UTC:20260517T193000
DTSTAMP:20260421T113907
CREATED:20260219T165030Z
LAST-MODIFIED:20260219T165030Z
UID:5380-1779037200-1779046200@shoplocalmd.com
SUMMARY:Sweet Leda Songwriter Showcase at the Room at Cedar Grove with Skribe and Madisun Bailey
DESCRIPTION:Join SL duo\, Skribe\, and Madisun Bailey for an evening of original songs and storytelling. There will be harmonies\, hugs\, and laughter! Your ticket includes your delicious multi-course meal. Doors open at 5 and dinner starts right away
URL:https://shoplocalmd.com/event/sweet-leda-songwriter-showcase-at-the-room-at-cedar-grove-with-skribe-and-madisun-bailey/
CATEGORIES:Live Performances
ATTACH;FMTTYPE=image/png:https://shoplocalmd.com/wp-content/uploads/2026/02/featured_45eb6747-c5c9-427f-a7a1-fb077df12037_422f03bac5ee485296bc83b36879a684.png
END:VEVENT
BEGIN:VEVENT
DTSTART;TZID=UTC:20260522T190000
DTEND;TZID=UTC:20260522T230000
DTSTAMP:20260421T113907
CREATED:20260219T230636Z
LAST-MODIFIED:20260219T230636Z
UID:5386-1779476400-1779490800@shoplocalmd.com
SUMMARY:Come Together Benefit at the 8x10
DESCRIPTION:One last Come Together benefit at the 8×10 before the venue closes in June! Several bands will all play Beatles tunes. Proceeds benefit the MD Food Bank. Tix go on sale 2/25
URL:https://shoplocalmd.com/event/come-together-benefit-at-the-8x10/
CATEGORIES:Live Performances
ATTACH;FMTTYPE=image/jpeg:https://shoplocalmd.com/wp-content/uploads/2026/02/featured_1da1e86d-5083-4708-a34e-27c54dc47393_39424995873f40d99b989ced7ffe4a08.jpeg
END:VEVENT
END:VCALENDAR