BEGIN:VCALENDAR
VERSION:2.0
PRODID:-//Shop Local MD - ECPv6.15.12.2//NONSGML v1.0//EN
CALSCALE:GREGORIAN
METHOD:PUBLISH
X-ORIGINAL-URL:https://shoplocalmd.com
X-WR-CALDESC:Events for Shop Local MD
REFRESH-INTERVAL;VALUE=DURATION:PT1H
X-Robots-Tag:noindex
X-PUBLISHED-TTL:PT1H
BEGIN:VTIMEZONE
TZID:UTC
BEGIN:STANDARD
TZOFFSETFROM:+0000
TZOFFSETTO:+0000
TZNAME:UTC
DTSTART:20250101T000000
END:STANDARD
END:VTIMEZONE
BEGIN:VEVENT
DTSTART;TZID=UTC:20260604T183000
DTEND;TZID=UTC:20260604T203000
DTSTAMP:20260421T102604
CREATED:20260219T231016Z
LAST-MODIFIED:20260219T231016Z
UID:5388-1780597800-1780605000@shoplocalmd.com
SUMMARY:Sweet Leda @ The Annapolis Town Center
DESCRIPTION:FREE concert series at the Annapolis Town Center! Bring blankets or chairs. We play 6:30 to 8:30. All ages!
URL:https://shoplocalmd.com/event/sweet-leda-the-annapolis-town-center/
CATEGORIES:Live Performances
ATTACH;FMTTYPE=image/jpeg:https://shoplocalmd.com/wp-content/uploads/2026/02/featured_7f7a665a-542e-4110-98a3-0284a8db2695_18f9bd4c53a9497ab67cd998688d3a9b.jpeg
END:VEVENT
BEGIN:VEVENT
DTSTART;TZID=UTC:20260604T223000
DTEND;TZID=UTC:20260605T013000
DTSTAMP:20260421T102604
CREATED:20260217T015339Z
LAST-MODIFIED:20260217T015339Z
UID:5343-1780612200-1780623000@shoplocalmd.com
SUMMARY:Talbot Mayo
DESCRIPTION:Duo with Luke Chohany
URL:https://shoplocalmd.com/event/talbot-mayo-15/
CATEGORIES:🎶 Music & Entertainment
ATTACH;FMTTYPE=image/jpeg:https://shoplocalmd.com/wp-content/uploads/2026/02/featured_b82d6acc-deb3-4045-bf4a-f0c2e77098a3_afa8a20717ea410c83d99b4319ea6ad6.jpg
END:VEVENT
BEGIN:VEVENT
DTSTART;TZID=UTC:20260605T180000
DTEND;TZID=UTC:20260605T210000
DTSTAMP:20260421T102604
CREATED:20260219T231429Z
LAST-MODIFIED:20260219T231429Z
UID:5390-1780682400-1780693200@shoplocalmd.com
SUMMARY:Sweet Leda @ Paul Cullen's Room at Cedar Grove with Ricky Wise
DESCRIPTION:Dinner and a show! Your ticket includes your delicious multi-course meal. Terrific drinks for sale. Doors at 6 pm! We’ll have Ricky Wise on drums and vocals. Shows at this venue always sell out so hurry
URL:https://shoplocalmd.com/event/sweet-leda-paul-cullens-room-at-cedar-grove-with-ricky-wise/
CATEGORIES:Live Performances
ATTACH;FMTTYPE=image/jpeg:https://shoplocalmd.com/wp-content/uploads/2026/02/featured_f19d9445-72e2-4f02-aaca-279e2d82a196_b78ad1b25ab8410881bd6a154c80f80c.jpeg
END:VEVENT
BEGIN:VEVENT
DTSTART;TZID=UTC:20260612T210000
DTEND;TZID=UTC:20260613T000000
DTSTAMP:20260421T102604
CREATED:20260217T015956Z
LAST-MODIFIED:20260217T015956Z
UID:5345-1781298000-1781308800@shoplocalmd.com
SUMMARY:Talbot Mayo
DESCRIPTION:the Talbot Mayo Band at Pairings Bistro
URL:https://shoplocalmd.com/event/talbot-mayo-16/
CATEGORIES:🎶 Music & Entertainment
ATTACH;FMTTYPE=image/jpeg:https://shoplocalmd.com/wp-content/uploads/2026/02/featured_0765873c-af77-47a7-bc60-69733e6fca2d_78bd1b449f9344a895b38379bc40b22a.jpg
END:VEVENT
BEGIN:VEVENT
DTSTART;TZID=UTC:20260620T030000
DTEND;TZID=UTC:20260621T025900
DTSTAMP:20260421T102604
CREATED:20260217T020730Z
LAST-MODIFIED:20260217T020730Z
UID:5347-1781924400-1782010740@shoplocalmd.com
SUMMARY:Talbot Mayo
DESCRIPTION:with Caleb Stine at Harmony Woods Music and Arts Festival
URL:https://shoplocalmd.com/event/talbot-mayo-17/
CATEGORIES:🎶 Music & Entertainment
ATTACH;FMTTYPE=image/jpeg:https://shoplocalmd.com/wp-content/uploads/2026/02/featured_54fdb903-98df-4bd7-8814-5f19f901a73c_d20c7fcec0184a5bac2b6b87f019c313.jpg
END:VEVENT
BEGIN:VEVENT
DTSTART;TZID=UTC:20260620T123000
DTEND;TZID=UTC:20260620T210000
DTSTAMP:20260421T102604
CREATED:20260220T003537Z
LAST-MODIFIED:20260220T003613Z
UID:5397-1781958600-1781989200@shoplocalmd.com
SUMMARY:Harmony Woods Music & Arts Fest
DESCRIPTION:with Tan and Sober Gentlemen\, Fitzkee Brothers\, Caleb Stine\, and more
URL:https://shoplocalmd.com/event/harmony-woods-music-arts-fest/
CATEGORIES:Concerts
END:VEVENT
END:VCALENDAR