BEGIN:VCALENDAR
VERSION:2.0
PRODID:-//Shop Local MD - ECPv6.15.12.2//NONSGML v1.0//EN
CALSCALE:GREGORIAN
METHOD:PUBLISH
X-ORIGINAL-URL:https://shoplocalmd.com
X-WR-CALDESC:Events for Shop Local MD
REFRESH-INTERVAL;VALUE=DURATION:PT1H
X-Robots-Tag:noindex
X-PUBLISHED-TTL:PT1H
BEGIN:VTIMEZONE
TZID:UTC
BEGIN:STANDARD
TZOFFSETFROM:+0000
TZOFFSETTO:+0000
TZNAME:UTC
DTSTART:20250101T000000
END:STANDARD
END:VTIMEZONE
BEGIN:VEVENT
DTSTART;TZID=UTC:20260806T223000
DTEND;TZID=UTC:20260807T013000
DTSTAMP:20260421T133848
CREATED:20260217T021818Z
LAST-MODIFIED:20260217T021818Z
UID:5351-1786055400-1786066200@shoplocalmd.com
SUMMARY:Talbot Mayo
DESCRIPTION:Duo with Luke Chohany at Butler Cabin
URL:https://shoplocalmd.com/event/talbot-mayo-19/
CATEGORIES:🎶 Music & Entertainment
ATTACH;FMTTYPE=image/jpeg:https://shoplocalmd.com/wp-content/uploads/2026/02/featured_c7fb728d-df12-4569-8396-09dee0cdc005_602ed45c61ac426fac9f497180dd2aae.jpg
END:VEVENT
END:VCALENDAR